BEGIN:VCALENDAR
VERSION:2.0
PRODID:-//www.szha.de//NONSGML kigkonsult.se iCalcreator 2.30.10//
CALSCALE:GREGORIAN
METHOD:PUBLISH
UID:1c925157-a0db-4d70-a628-cf340f681afa
X-WR-CALNAME:iCagenda
X-WR-CALDESC:Event Management Extension for Joomla!
X-WR-RELCALID:3E26604A-50F4-4449-8B3E-E4F4932D05B5
X-WR-TIMEZONE:Europe/Berlin
BEGIN:VTIMEZONE
TZID:Europe/Berlin
BEGIN:STANDARD
TZNAME:CET
DTSTART:20241027T030000
TZOFFSETFROM:+0200
TZOFFSETTO:+0100
RDATE:20251026T030000
RDATE:20261025T030000
END:STANDARD
BEGIN:DAYLIGHT
TZNAME:CEST
DTSTART:20250330T020000
TZOFFSETFROM:+0100
TZOFFSETTO:+0200
RDATE:20260329T020000
END:DAYLIGHT
END:VTIMEZONE
BEGIN:VEVENT
UID:51091557-7640-47f6-83bf-491e7818bb3d
DTSTAMP:20260425T184617Z
CATEGORIES:Arbeiten unter Spannung
CLASS:PUBLIC
DESCRIPTION:
DTSTART:20250521T122100Z
DTEND:20250522T122100Z
GEO:00;0
LOCATION:Schulungszentrum Halder\, Höllweg 19\, 89584 Ehingen-Dettingen
ORGANIZER:
SEQUENCE:1
SUMMARY:Arbeiten unter Spannung
TRANSP:OPAQUE
URL:https://www.szha.de/index.php/termine/32-aus-21-22-05-2025
END:VEVENT
END:VCALENDAR
