BEGIN:VCALENDAR
VERSION:2.0
PRODID:-//www.szha.de//NONSGML kigkonsult.se iCalcreator 2.30.10//
CALSCALE:GREGORIAN
METHOD:PUBLISH
UID:96d4939c-b13b-4183-a0b5-64335aaf37a7
X-WR-CALNAME:iCagenda
X-WR-CALDESC:Event Management Extension for Joomla!
X-WR-RELCALID:3E26604A-50F4-4449-8B3E-E4F4932D05B5
X-WR-TIMEZONE:Europe/Berlin
BEGIN:VTIMEZONE
TZID:Europe/Berlin
BEGIN:STANDARD
TZNAME:CET
DTSTART:20241027T030000
TZOFFSETFROM:+0200
TZOFFSETTO:+0100
RDATE:20251026T030000
END:STANDARD
BEGIN:DAYLIGHT
TZNAME:CEST
DTSTART:20240331T020000
TZOFFSETFROM:+0100
TZOFFSETTO:+0200
RDATE:20250330T020000
RDATE:20260329T020000
END:DAYLIGHT
END:VTIMEZONE
BEGIN:VEVENT
UID:148ad411-280f-4c34-bae5-7794a2fba166
DTSTAMP:20260420T101619Z
CATEGORIES:Arbeiten unter Spannung
CLASS:PUBLIC
DESCRIPTION:
DTSTART:20250122T070600Z
DTEND:20250123T070600Z
GEO:00;0
LOCATION:Schulungszentrum Halder\, Höllweg 19\, 89584 Ehingen-Dettingen
ORGANIZER:
SEQUENCE:1
SUMMARY:Arbeiten unter Spannung
TRANSP:OPAQUE
URL:https://www.szha.de/index.php/termine-liste/24-aus-4
END:VEVENT
END:VCALENDAR
